BEGIN:VCALENDAR
VERSION:2.0
PRODID:-//MyHumanitas Family Services - ECPv6.15.20//NONSGML v1.0//EN
CALSCALE:GREGORIAN
METHOD:PUBLISH
X-WR-CALNAME:MyHumanitas Family Services
X-ORIGINAL-URL:https://myhumanitas.org
X-WR-CALDESC:Events for MyHumanitas Family Services
REFRESH-INTERVAL;VALUE=DURATION:PT1H
X-Robots-Tag:noindex
X-PUBLISHED-TTL:PT1H
BEGIN:VTIMEZONE
TZID:America/Regina
BEGIN:STANDARD
TZOFFSETFROM:-0600
TZOFFSETTO:-0600
TZNAME:CST
DTSTART:20210101T000000
END:STANDARD
END:VTIMEZONE
BEGIN:VEVENT
DTSTART;TZID=America/Regina:20230225T180000
DTEND;TZID=America/Regina:20230225T213000
DTSTAMP:20260425T095758
CREATED:20230120T183844Z
LAST-MODIFIED:20230207T153759Z
UID:3603-1677348000-1677360600@myhumanitas.org
SUMMARY:Kuya Jobert Live in Saskatoon - Benefit Show for MyHumanitas Family
DESCRIPTION:PMPC Star Award for TV Best Comedy Actor\, Jobert Austria\, popularly known as Kuya Jobert from the hit Philippine TV shows Todo Max\, Ang Probinsyano\, Banana Split: Extra Scoop\, and recently Happy ToGether\, will have a show in the Bridge City called “Kuya Jobert Live in Saskatoon – Tawanan\, Kantahan at Kainan sa Saskatchewan!” This night of fun\, laughter and delicious bites will be held at Mount Royal Mennonite Church Gym 610 Avenue O North on Saturday\, Feb. 25\, 2023\, 6:00 PM. Dinner will be served from 6:30 to 7:30\, and Kuya Jobert will take over for an hour of stand-up comedy. This event is organized to help support MyHumanitas Family Services in its upcoming programs. \nThis show will only be possible with the efforts of Ms. Medelyn Perez\, Regional Marketing Manager of East West College of Business Technology and YLF Boutique owner Ms. Lyndel Calzado Crespo. For more info\, follow our FB page for announcements. Please contact our organizer\, Ms. Lyndel Calzado Crespo\, for tickets and information\, at 306-717-3309.
URL:https://myhumanitas.org/event/kuya-jobert-live-in-saskatoon-benefit-show-for-myhumanitas-family/
LOCATION:Saskatoon\, Saskatoon\, Saskatchewan\, Canada
CATEGORIES:Our Events
ATTACH;FMTTYPE=image/jpeg:https://myhumanitas.org/wp-content/uploads/2023/01/event-kuyajobert_2023.jpg
END:VEVENT
BEGIN:VEVENT
DTSTART;TZID=America/Regina:20221125T180000
DTEND;TZID=America/Regina:20221125T220000
DTSTAMP:20260425T095758
CREATED:20221025T222621Z
LAST-MODIFIED:20221025T223704Z
UID:3563-1669399200-1669413600@myhumanitas.org
SUMMARY:MyHumanitas Fundraiser Night 2022
DESCRIPTION:MyHumanitas Family Services is inviting everyone and asking for your participation in our annual fundraising gala night. This event will take place at the Travelodge Hotel Saskatoon on November 25th. We decided to organize this fundraiser night to help us continue our cause and support more family programs in the coming year. This dinner will also present how far MyHumanitas Family has come in its first year of operation. In addition to that\, this is also a gala night that will showcase the skills and knowledge acquired by the children participating in that 10-week dance and art program. \n \nThanks for your support and generosity. We hope to see you at our fundraising night.
URL:https://myhumanitas.org/event/myhumanitas-fundraiser-night-2022/
LOCATION:Saskatoon\, Saskatoon\, Saskatchewan\, Canada
CATEGORIES:Our Events
ATTACH;FMTTYPE=image/jpeg:https://myhumanitas.org/wp-content/uploads/2022/11/event_web_banner_fundraiser2022.jpg
END:VEVENT
BEGIN:VEVENT
DTSTART;TZID=America/Regina:20220818T080000
DTEND;TZID=America/Regina:20220820T170000
DTSTAMP:20260425T095758
CREATED:20220815T214950Z
LAST-MODIFIED:20220815T232445Z
UID:3539-1660809600-1661014800@myhumanitas.org
SUMMARY:MyHumanitas Flip Kidz at Saskatoon Folkfest 2022
DESCRIPTION:Flip Kidz and Flip Kidz Jr. will be performing at Saskatoon Folkfest 2022. In addition to their outstanding performances at the recently concluded Saskatchewan Filipino Music & Food Street Festival 2022\, these talented youth will surely have another stellar performance at the upcoming cultural festival. They will perform on August 18 (Thursday) at 7:15 PM and Saturday\, August 20\, at 5:30 PM. For more information please visit the Saskatoon Folkfest website or visit the MyHumanitas FB page for updates. We hope to see you there!
URL:https://myhumanitas.org/event/myhumanitas-flip-kidz-at-saskatoon-folkfest-2022/
LOCATION:Saskatoon\, Saskatoon\, Saskatchewan\, Canada
CATEGORIES:Our Events
ATTACH;FMTTYPE=image/jpeg:https://myhumanitas.org/wp-content/uploads/2022/08/MyHumanitas-FlipKidz_FolkFest.jpg
END:VEVENT
BEGIN:VEVENT
DTSTART;TZID=America/Regina:20220705T110000
DTEND;TZID=America/Regina:20220707T150000
DTSTAMP:20260425T095758
CREATED:20220615T164049Z
LAST-MODIFIED:20220617T135911Z
UID:3492-1657018800-1657206000@myhumanitas.org
SUMMARY:MyHumanitas Summer Camp 2022
DESCRIPTION:MyHumanitas Family Services presents our 2022 Summer Camp!\n\n\nMyHumanitas is providing a great opportunity to meet new friends\, learn some skills\, and make lasting memories! Join us for fun\, dance\, and games this summer.\nWith the help of our supporters\, this camp is FREE OF CHARGE and is open to children ages 5-12. Register now!\n\n\n\n\nPlease contact info@myhumanitas.org or lyrra@myhumanitas.org for all inquiries and registration.
URL:https://myhumanitas.org/event/myhumanitas-summer-camp-2022/
LOCATION:Saskatoon\, Saskatoon\, Saskatchewan\, Canada
CATEGORIES:Our Events
ATTACH;FMTTYPE=image/jpeg:https://myhumanitas.org/wp-content/uploads/2022/06/dance_summer_Camp_2022_FB.jpg
ORGANIZER;CN="MyHumanitas Family Services":MAILTO:info@myhumanitas.org
END:VEVENT
END:VCALENDAR